BEGIN:VCALENDAR
VERSION:2.0
PRODID:-//https://www.arties.eu///NONSGML kigkonsult.se iCalcreator 2.10.15//
METHOD:PUBLISH
BEGIN:VEVENT
UID:20260421T133718CEST-9178kwbriO@https://www.arties.eu/
DTSTAMP:20260421T113718Z
DESCRIPTION:\n\n\n\n \nDiaporamas et documents\nLAGRANGE -Eau potable et as
 sainissement en partie publique.pdf\nLAGRANGE - Recuperation eau de pluie.
 pdf\nREX Strasbourg.pdf\n \n\n\n\n\nLe séminaire\n\n\n\nTout ce que vous a
 vez toujours voulu savoir sur le circuit de l'eau sans jamais avoir osé le
  demandé !\n\nL’eau potable et l’assainissement en partie publique\, de la
  ressource en eau jusqu’au compteur.\nRécupération des eaux de pluies à
  des fins de réutilisation sanitaire.\nGestion de la ressource en eau à 
 l'intérieur du bâtiment.\n\n\n\n\nLe programme\nLe programme des 3 jours
  : Programme_complet_séminaire_ARTIES_CAEN_-_VF.pdf\nInformations pratiqu
 es\n\n\n\nLieu : Université de Caen Normandie\nDates :  mercredi 22 mais 1
 3h30 au vendredi 24 mai 13h\n\n\n\nLes plans d'accès et du campus  : Plans
  accès campus séminaire ARTIES CAEN- VF.pdf\nAfin de faciliter vos dépla
 cements durant le séminaire\, vous receverez à votre arrivé un kit dans le
 quel vous troverez :\n\nUn pass Twisto 3 jours pour vos déplacements en bu
 s : billet valable 72 heures (3 jours) à partir de la première validation 
 pour un nombre de voyage illimité\,\nUn plan détaillé du centre-ville de C
 aen sur lequel sont mentionnés les hôtels réservés\, les lignes de bus et 
 arrêts correspondants\,\nUn plan du campus 1 de l’université sur lequel so
 nt précisés les différents points d’accueil\, salles et amphis où vous ser
 ez amenés à vous rendre\,\nUn tableau récapitulatif des lignes de bus et a
 rrêts correspondants à chaque hôtel.\n\nEn raison des travaux liés au réam
 énagement et à l’extension du nouveau Tramway\, de nombreuses perturbation
 s de circulation sont à noter. Le réseau de bus est également impacté (ret
 ards de bus et déplacements ponctuels de certains arrêts en arrêts proviso
 ires).\nLa plupart des hôtels réservés se situent en centre-ville de Caen 
 (entre 5 et 15 min à pieds depuis l’université).\nEn dehors de votre jour 
 d’arrivée et de départ\, il est ecommandé d’effectuer vos trajets universi
 té-hôtels à pieds. Vous gagnerez un temps précieux et il parrait que c'est
  mieux pour la santé !  http://www.mangerbouger.fr/\nInscriptions\nFrais d
 'inscription : 519 € incluant l'hébergement\, la restauration et les frais
  de formation\, 359 € sans hébergement.\nMerci de compléter votre inscript
 ion en envoyant un bon de commande libellé à Artiès\,\n\npar courrier : 14
 1 rue de la piscine BP 86 - 38402 St Martin d'Hères cedex\npar fax : 04 76
  82 40 56\npar courriel : secretariat@arties.fr\n\nLes inscriptions c'est 
  > ICI <\n \n\n\n\n\n \n\n\n\n https://www.arties.eu/index.php/rsevent/eve
 nement/11-la-gestion-durable-de-l-eau-dans-nos-batiments
DTSTART:20190521T220000Z
DTEND:20190524T110000Z
LOCATION:Université de Caen (Espl. de la Paix\, 14000 Caen\, France)
SUMMARY:La gestion durable de l'eau dans nos bâtiments
URL:https://www.arties.eu/index.php/rsevent/evenement/11-la-gestion-durable
 -de-l-eau-dans-nos-batiments
END:VEVENT
END:VCALENDAR
